BEGIN:VCALENDAR
VERSION:2.0
PRODID:spatie/icalendar-generator
DESCRIPTION:Évènements de Badminton Club Vevey
X-WR-CALDESC:Évènements de Badminton Club Vevey
REFRESH-INTERVAL;VALUE=DURATION:PT1440M
X-PUBLISHED-TTL:PT1440M
BEGIN:VTIMEZONE
TZID:Etc/GMT-1
BEGIN:STANDARD
DTSTART:20240520T200000Z
TZOFFSETFROM:+0100
TZOFFSETTO:+0100
END:STANDARD
END:VTIMEZONE
BEGIN:VTIMEZONE
TZID:UTC
BEGIN:STANDARD
DTSTART:20250726T022028Z
TZOFFSETFROM:+0000
TZOFFSETTO:+0000
END:STANDARD
END:VTIMEZONE
BEGIN:VEVENT
UID:81-74
DTSTAMP:20260422T022028Z
SUMMARY:Vevey 2 - Thierrens 1
LOCATION:Centre de La Veyre   St-Légier Vaud 1806
ORGANIZER;CN=vcudrem:MAILTO:vincent@bcvevey.ch
DTSTART;TZID=Etc/GMT-1:20250214T200000
DTEND;TZID=Etc/GMT-1:20250214T210000
X-ALT-DESC;FMTTYPE=TEXT/HTML:
CATEGORIES:interclub
URL;VALUE=URI:https://bcvevey.ch/mc-events/vevey-2-thierrens-1/
METHOD:PUBLISH
END:VEVENT
END:VCALENDAR